BEGIN:VCALENDAR
VERSION:2.0
PRODID:-//communityofcarend.com//NONSGML kigkonsult.se iCalcreator 2.30.10/
 /
CALSCALE:GREGORIAN
METHOD:PUBLISH
UID:2c42b26f-8d4d-4c30-a03e-0478c6d020ca
X-WR-CALDESC:
X-WR-RELCALID:43cbac22b9e2ae094c505170be861694
X-WR-TIMEZONE:America/Chicago
BEGIN:VTIMEZONE
TZID:America/Chicago
BEGIN:STANDARD
TZNAME:CST
DTSTART:20231105T020000
TZOFFSETFROM:-0500
TZOFFSETTO:-0600
RDATE:20241103T020000
RDATE:20251102T020000
END:STANDARD
BEGIN:DAYLIGHT
TZNAME:CDT
DTSTART:20240310T020000
TZOFFSETFROM:-0600
TZOFFSETTO:-0500
RDATE:20250309T020000
RDATE:20260308T020000
END:DAYLIGHT
END:VTIMEZONE
BEGIN:VEVENT
UID:51b6645c-e97e-4dbb-a88c-32e1aa38338e
DTSTAMP:20260420T060701Z
DESCRIPTION:
DTSTART;TZID=America/Chicago:20240912T100000
DTEND;TZID=America/Chicago:20240912T120000
LOCATION:
SUMMARY:C of Care Board Meeting
END:VEVENT
END:VCALENDAR
