BEGIN:VCALENDAR
VERSION:2.0
PRODID:-//communityofcarend.com//NONSGML kigkonsult.se iCalcreator 2.30.10/
 /
CALSCALE:GREGORIAN
METHOD:PUBLISH
UID:d9e61c78-41c8-4c92-9819-e210d82164b3
X-WR-CALDESC:Bone Builder Exercise Class
X-WR-RELCALID:580a013761a1f3dfe5985ddc3afe7d9e
X-WR-TIMEZONE:America/Chicago
BEGIN:VTIMEZONE
TZID:America/Chicago
BEGIN:STANDARD
TZNAME:CST
DTSTART:20231105T020000
TZOFFSETFROM:-0500
TZOFFSETTO:-0600
RDATE:20241103T020000
RDATE:20251102T020000
END:STANDARD
BEGIN:DAYLIGHT
TZNAME:CDT
DTSTART:20240310T020000
TZOFFSETFROM:-0600
TZOFFSETTO:-0500
RDATE:20250309T020000
END:DAYLIGHT
END:VTIMEZONE
BEGIN:VEVENT
UID:84b69340-f45d-49d3-b5f6-a6047a375f7a
DTSTAMP:20260420T054314Z
DESCRIPTION:Bone Builder Exercise Class
DTSTART;TZID=America/Chicago:20240902T100000
DTEND;TZID=America/Chicago:20240902T110000
LOCATION:Horace Senior Center
SUMMARY:Horace Bone Builders
END:VEVENT
END:VCALENDAR
