BEGIN:VCALENDAR
VERSION:2.0
PRODID:-//communityofcarend.com//NONSGML kigkonsult.se iCalcreator 2.30.10/
 /
CALSCALE:GREGORIAN
METHOD:PUBLISH
UID:484063a9-e6a4-4fc1-96e4-6b27946d970b
X-WR-CALDESC:
X-WR-RELCALID:cb6d6ac3d47a60b68badb92bd5894761
X-WR-TIMEZONE:America/Chicago
BEGIN:VTIMEZONE
TZID:America/Chicago
BEGIN:STANDARD
TZNAME:CST
DTSTART:20231105T020000
TZOFFSETFROM:-0500
TZOFFSETTO:-0600
RDATE:20241103T020000
RDATE:20251102T020000
END:STANDARD
BEGIN:DAYLIGHT
TZNAME:CDT
DTSTART:20240310T020000
TZOFFSETFROM:-0600
TZOFFSETTO:-0500
RDATE:20250309T020000
END:DAYLIGHT
END:VTIMEZONE
BEGIN:VEVENT
UID:388bc255-c67f-4630-8826-27bca24a0d0c
DTSTAMP:20260420T043525Z
DESCRIPTION:
DTSTART;TZID=America/Chicago:20240826T094500
DTEND;TZID=America/Chicago:20240826T104500
LOCATION:Arthur United Methodist Church
SUMMARY:Bone Builders - Arthur United Methodist Church
END:VEVENT
END:VCALENDAR
