BEGIN:VCALENDAR
VERSION:2.0
PRODID:-//communityofcarend.com//NONSGML kigkonsult.se iCalcreator 2.30.10/
 /
CALSCALE:GREGORIAN
METHOD:PUBLISH
UID:3cede361-4108-4e49-8a05-9a2e0ed0af08
X-WR-CALDESC:Low impact exercise class
X-WR-RELCALID:d015b8d757c3f328f2bc5ac13c804351
X-WR-TIMEZONE:America/Chicago
BEGIN:VTIMEZONE
TZID:America/Chicago
BEGIN:STANDARD
TZNAME:CST
DTSTART:20231105T020000
TZOFFSETFROM:-0500
TZOFFSETTO:-0600
RDATE:20241103T020000
RDATE:20251102T020000
END:STANDARD
BEGIN:DAYLIGHT
TZNAME:CDT
DTSTART:20240310T020000
TZOFFSETFROM:-0600
TZOFFSETTO:-0500
RDATE:20250309T020000
END:DAYLIGHT
END:VTIMEZONE
BEGIN:VEVENT
UID:f634c3ad-a9f6-4bca-993d-e4d0e11bd4f1
DTSTAMP:20260420T041957Z
DESCRIPTION:Low impact exercise class
DTSTART;TZID=America/Chicago:20240812T103000
DTEND;TZID=America/Chicago:20240812T113000
LOCATION:Kindred City Hall
SUMMARY:Kindred Bone Builders
END:VEVENT
END:VCALENDAR
