BEGIN:VCALENDAR
VERSION:2.0
PRODID:-//communityofcarend.com//NONSGML kigkonsult.se iCalcreator 2.30.10/
 /
CALSCALE:GREGORIAN
METHOD:PUBLISH
UID:10b86a68-09d4-41ec-a949-388e8a8a16ca
X-WR-CALDESC:Bone Builder Exercise Class
X-WR-RELCALID:5bd09e0141b7e5f3a38c5f0498d49813
X-WR-TIMEZONE:America/Chicago
BEGIN:VTIMEZONE
TZID:America/Chicago
BEGIN:STANDARD
TZNAME:CST
DTSTART:20231105T020000
TZOFFSETFROM:-0500
TZOFFSETTO:-0600
RDATE:20241103T020000
RDATE:20251102T020000
END:STANDARD
BEGIN:DAYLIGHT
TZNAME:CDT
DTSTART:20240310T020000
TZOFFSETFROM:-0600
TZOFFSETTO:-0500
RDATE:20250309T020000
END:DAYLIGHT
END:VTIMEZONE
BEGIN:VEVENT
UID:c48557ce-d399-48e6-b2b4-c60605f8ac0c
DTSTAMP:20260420T042104Z
DESCRIPTION:Bone Builder Exercise Class
DTSTART;TZID=America/Chicago:20240805T100000
DTEND;TZID=America/Chicago:20240805T110000
LOCATION:Horace Senior Center
SUMMARY:Horace Bone Builders
END:VEVENT
END:VCALENDAR
