BEGIN:VCALENDAR
VERSION:2.0
PRODID:-//communityofcarend.com//NONSGML kigkonsult.se iCalcreator 2.30.10/
 /
CALSCALE:GREGORIAN
METHOD:PUBLISH
UID:8616b41c-1371-4414-ba18-49c57b6ad03d
X-WR-CALDESC:
X-WR-RELCALID:557112a83d955ad3d5a7b9e29b65c5d7
X-WR-TIMEZONE:America/Chicago
BEGIN:VTIMEZONE
TZID:America/Chicago
BEGIN:STANDARD
TZNAME:CST
DTSTART:20231105T020000
TZOFFSETFROM:-0500
TZOFFSETTO:-0600
RDATE:20241103T020000
RDATE:20251102T020000
END:STANDARD
BEGIN:DAYLIGHT
TZNAME:CDT
DTSTART:20240310T020000
TZOFFSETFROM:-0600
TZOFFSETTO:-0500
RDATE:20250309T020000
END:DAYLIGHT
END:VTIMEZONE
BEGIN:VEVENT
UID:955501ff-2b44-4dd3-a3e6-24f5215ca9f3
DTSTAMP:20260420T025400Z
DESCRIPTION:
DTSTART;TZID=America/Chicago:20240730T130000
DTEND;TZID=America/Chicago:20240730T140000
LOCATION:
SUMMARY:Bone Builders - Harwood
END:VEVENT
END:VCALENDAR
