BEGIN:VCALENDAR
VERSION:2.0
PRODID:-//communityofcarend.com//NONSGML kigkonsult.se iCalcreator 2.30.10/
 /
CALSCALE:GREGORIAN
METHOD:PUBLISH
UID:9cc95455-896d-4311-846b-c521f37b839b
X-WR-CALDESC:Bone Builder Exercise Class
X-WR-RELCALID:517ac7a0be3fe612add1a9d113ee06a1
X-WR-TIMEZONE:America/Chicago
BEGIN:VTIMEZONE
TZID:America/Chicago
BEGIN:STANDARD
TZNAME:CST
DTSTART:20231105T020000
TZOFFSETFROM:-0500
TZOFFSETTO:-0600
RDATE:20241103T020000
RDATE:20251102T020000
END:STANDARD
BEGIN:DAYLIGHT
TZNAME:CDT
DTSTART:20240310T020000
TZOFFSETFROM:-0600
TZOFFSETTO:-0500
RDATE:20250309T020000
END:DAYLIGHT
END:VTIMEZONE
BEGIN:VEVENT
UID:0aa2b163-cb0d-4644-8512-42b8fb05f8fc
DTSTAMP:20260420T025309Z
DESCRIPTION:Bone Builder Exercise Class
DTSTART;TZID=America/Chicago:20240725T100000
DTEND;TZID=America/Chicago:20240725T110000
LOCATION:Horace Senior Center
SUMMARY:Horace Bone Builders
END:VEVENT
END:VCALENDAR
