BEGIN:VCALENDAR
VERSION:2.0
PRODID:-//communityofcarend.com//NONSGML kigkonsult.se iCalcreator 2.30.10/
 /
CALSCALE:GREGORIAN
METHOD:PUBLISH
UID:ef0e1b21-2f48-4de9-901e-e81e5bfcc133
X-WR-CALDESC:Low impact exercise class
X-WR-RELCALID:d3cf8fcde68f58e91d27613c11b5da2f
X-WR-TIMEZONE:America/Chicago
BEGIN:VTIMEZONE
TZID:America/Chicago
BEGIN:STANDARD
TZNAME:CST
DTSTART:20231105T020000
TZOFFSETFROM:-0500
TZOFFSETTO:-0600
RDATE:20241103T020000
RDATE:20251102T020000
END:STANDARD
BEGIN:DAYLIGHT
TZNAME:CDT
DTSTART:20240310T020000
TZOFFSETFROM:-0600
TZOFFSETTO:-0500
RDATE:20250309T020000
END:DAYLIGHT
END:VTIMEZONE
BEGIN:VEVENT
UID:ede476b5-6cd7-4bd1-9099-71adf653e4f7
DTSTAMP:20260420T025149Z
DESCRIPTION:Low impact exercise class
DTSTART;TZID=America/Chicago:20240722T103000
DTEND;TZID=America/Chicago:20240722T113000
LOCATION:Kindred City Hall
SUMMARY:Kindred Bone Builders
END:VEVENT
END:VCALENDAR
