BEGIN:VCALENDAR
VERSION:2.0
PRODID:-//communityofcarend.com//NONSGML kigkonsult.se iCalcreator 2.30.10/
 /
CALSCALE:GREGORIAN
METHOD:PUBLISH
UID:a68ee36a-4867-4955-9d16-e77bd2407f74
X-WR-CALDESC:Low-impact exercise classes.
X-WR-RELCALID:0740fc9a986cabdff3ba3ffaa73cfefe
X-WR-TIMEZONE:America/Chicago
BEGIN:VTIMEZONE
TZID:America/Chicago
BEGIN:STANDARD
TZNAME:CST
DTSTART:20231105T020000
TZOFFSETFROM:-0500
TZOFFSETTO:-0600
RDATE:20241103T020000
RDATE:20251102T020000
END:STANDARD
BEGIN:DAYLIGHT
TZNAME:CDT
DTSTART:20240310T020000
TZOFFSETFROM:-0600
TZOFFSETTO:-0500
RDATE:20250309T020000
END:DAYLIGHT
END:VTIMEZONE
BEGIN:VEVENT
UID:e9409653-235c-4314-b315-08f6a9461cf6
DTSTAMP:20260420T025748Z
DESCRIPTION:Low-impact exercise classes.
DTSTART;TZID=America/Chicago:20240712T103000
DTEND;TZID=America/Chicago:20240712T113000
LOCATION:Kindred City Hall
SUMMARY:Bone Builders - Kindred City Hall
END:VEVENT
END:VCALENDAR
