BEGIN:VCALENDAR
VERSION:2.0
PRODID:-//communityofcarend.com//NONSGML kigkonsult.se iCalcreator 2.30.10/
 /
CALSCALE:GREGORIAN
METHOD:PUBLISH
UID:38c9916d-261e-4d32-b685-e6717ba44ca1
X-WR-CALDESC:Low-impact exercise classes.
X-WR-RELCALID:f7f84910e342cb4fae946d2489798c7c
X-WR-TIMEZONE:America/Chicago
BEGIN:VTIMEZONE
TZID:America/Chicago
BEGIN:STANDARD
TZNAME:CST
DTSTART:20231105T020000
TZOFFSETFROM:-0500
TZOFFSETTO:-0600
RDATE:20241103T020000
RDATE:20251102T020000
END:STANDARD
BEGIN:DAYLIGHT
TZNAME:CDT
DTSTART:20240310T020000
TZOFFSETFROM:-0600
TZOFFSETTO:-0500
RDATE:20250309T020000
END:DAYLIGHT
END:VTIMEZONE
BEGIN:VEVENT
UID:87f17e5e-f48e-4405-9507-1dac66bd00ae
DTSTAMP:20260420T025831Z
DESCRIPTION:Low-impact exercise classes.
DTSTART;TZID=America/Chicago:20240705T103000
DTEND;TZID=America/Chicago:20240705T113000
LOCATION:Kindred City Hall
SUMMARY:Bone Builders - Kindred City Hall
END:VEVENT
END:VCALENDAR
