BEGIN:VCALENDAR
VERSION:2.0
PRODID:-//communityofcarend.com//NONSGML kigkonsult.se iCalcreator 2.30.10/
 /
CALSCALE:GREGORIAN
METHOD:PUBLISH
UID:29742d44-5e09-4483-9f71-c7d5556c1db1
X-WR-CALDESC:
X-WR-RELCALID:8af486f1313fe25308baeba1731823a5
X-WR-TIMEZONE:America/Chicago
BEGIN:VTIMEZONE
TZID:America/Chicago
BEGIN:STANDARD
TZNAME:CST
DTSTART:20231105T020000
TZOFFSETFROM:-0500
TZOFFSETTO:-0600
RDATE:20241103T020000
RDATE:20251102T020000
END:STANDARD
BEGIN:DAYLIGHT
TZNAME:CDT
DTSTART:20240310T020000
TZOFFSETFROM:-0600
TZOFFSETTO:-0500
RDATE:20250309T020000
END:DAYLIGHT
END:VTIMEZONE
BEGIN:VEVENT
UID:c3a0b734-c30a-408a-970b-25dcfd96f7f0
DTSTAMP:20260420T025309Z
DESCRIPTION:
DTSTART;TZID=America/Chicago:20240702T130000
DTEND;TZID=America/Chicago:20240702T140000
LOCATION:
SUMMARY:Bone Builders - Harwood
END:VEVENT
END:VCALENDAR
