BEGIN:VCALENDAR
VERSION:2.0
PRODID:-//communityofcarend.com//NONSGML kigkonsult.se iCalcreator 2.30.10/
 /
CALSCALE:GREGORIAN
METHOD:PUBLISH
UID:bbec9193-346d-4d28-88fa-816eaac003dd
X-WR-CALDESC:Bone Builder Exercise Class
X-WR-RELCALID:7c9511edbc30c0c486382599e632afaf
X-WR-TIMEZONE:America/Chicago
BEGIN:VTIMEZONE
TZID:America/Chicago
BEGIN:STANDARD
TZNAME:CST
DTSTART:20231105T020000
TZOFFSETFROM:-0500
TZOFFSETTO:-0600
RDATE:20241103T020000
RDATE:20251102T020000
END:STANDARD
BEGIN:DAYLIGHT
TZNAME:CDT
DTSTART:20240310T020000
TZOFFSETFROM:-0600
TZOFFSETTO:-0500
RDATE:20250309T020000
END:DAYLIGHT
END:VTIMEZONE
BEGIN:VEVENT
UID:b80d6276-2d17-4a03-bff4-81cba9a4818f
DTSTAMP:20260420T012112Z
DESCRIPTION:Bone Builder Exercise Class
DTSTART;TZID=America/Chicago:20240627T100000
DTEND;TZID=America/Chicago:20240627T110000
LOCATION:Horace Senior Center
SUMMARY:Horace Bone Builders
END:VEVENT
END:VCALENDAR
