BEGIN:VCALENDAR
VERSION:2.0
PRODID:-//communityofcarend.com//NONSGML kigkonsult.se iCalcreator 2.30.10/
 /
CALSCALE:GREGORIAN
METHOD:PUBLISH
UID:a71769c1-41b8-43f1-aa12-fe5ffa81517e
X-WR-CALDESC:Low-impact exercise classes.
X-WR-RELCALID:693136bc81eda81d03d53e7a21434035
X-WR-TIMEZONE:America/Chicago
BEGIN:VTIMEZONE
TZID:America/Chicago
BEGIN:STANDARD
TZNAME:CST
DTSTART:20231105T020000
TZOFFSETFROM:-0500
TZOFFSETTO:-0600
RDATE:20241103T020000
RDATE:20251102T020000
END:STANDARD
BEGIN:DAYLIGHT
TZNAME:CDT
DTSTART:20240310T020000
TZOFFSETFROM:-0600
TZOFFSETTO:-0500
RDATE:20250309T020000
END:DAYLIGHT
END:VTIMEZONE
BEGIN:VEVENT
UID:6d32641b-1599-4ec1-8a8f-f5175419de21
DTSTAMP:20260420T012239Z
DESCRIPTION:Low-impact exercise classes.
DTSTART;TZID=America/Chicago:20240621T103000
DTEND;TZID=America/Chicago:20240621T113000
LOCATION:Kindred City Hall
SUMMARY:Bone Builders - Kindred City Hall
END:VEVENT
END:VCALENDAR
