BEGIN:VCALENDAR
VERSION:2.0
PRODID:-//communityofcarend.com//NONSGML kigkonsult.se iCalcreator 2.30.10/
 /
CALSCALE:GREGORIAN
METHOD:PUBLISH
UID:e37f0e52-23d7-418c-a868-9ba0d9287fc5
X-WR-CALDESC:Low-impact exercise classes.
X-WR-RELCALID:2a3177d233da5a16eadf99e9de33778e
X-WR-TIMEZONE:America/Chicago
BEGIN:VTIMEZONE
TZID:America/Chicago
BEGIN:STANDARD
TZNAME:CST
DTSTART:20231105T020000
TZOFFSETFROM:-0500
TZOFFSETTO:-0600
RDATE:20241103T020000
RDATE:20251102T020000
END:STANDARD
BEGIN:DAYLIGHT
TZNAME:CDT
DTSTART:20240310T020000
TZOFFSETFROM:-0600
TZOFFSETTO:-0500
RDATE:20250309T020000
END:DAYLIGHT
END:VTIMEZONE
BEGIN:VEVENT
UID:77b2303f-f351-4c85-b1d7-b851b9c60adf
DTSTAMP:20260420T012609Z
DESCRIPTION:Low-impact exercise classes.
DTSTART;TZID=America/Chicago:20240614T103000
DTEND;TZID=America/Chicago:20240614T113000
LOCATION:Kindred City Hall
SUMMARY:Bone Builders - Kindred City Hall
END:VEVENT
END:VCALENDAR
