BEGIN:VCALENDAR
VERSION:2.0
PRODID:-//communityofcarend.com//NONSGML kigkonsult.se iCalcreator 2.30.10/
 /
CALSCALE:GREGORIAN
METHOD:PUBLISH
UID:cd14d4c1-1eeb-4010-976d-5d2e8ee6f46e
X-WR-CALDESC:Bone Builder Exercise Class
X-WR-RELCALID:68ac655ecbc136fc246f51f113d6ec26
X-WR-TIMEZONE:America/Chicago
BEGIN:VTIMEZONE
TZID:America/Chicago
BEGIN:STANDARD
TZNAME:CST
DTSTART:20231105T020000
TZOFFSETFROM:-0500
TZOFFSETTO:-0600
RDATE:20241103T020000
RDATE:20251102T020000
END:STANDARD
BEGIN:DAYLIGHT
TZNAME:CDT
DTSTART:20240310T020000
TZOFFSETFROM:-0600
TZOFFSETTO:-0500
RDATE:20250309T020000
END:DAYLIGHT
END:VTIMEZONE
BEGIN:VEVENT
UID:ad0ed657-6c92-430c-812e-7e8821163be3
DTSTAMP:20260419T233035Z
DESCRIPTION:Bone Builder Exercise Class
DTSTART;TZID=America/Chicago:20240516T100000
DTEND;TZID=America/Chicago:20240516T110000
LOCATION:Horace Senior Center
SUMMARY:Horace Bone Builders
END:VEVENT
END:VCALENDAR
