BEGIN:VCALENDAR
VERSION:2.0
PRODID:-//communityofcarend.com//NONSGML kigkonsult.se iCalcreator 2.30.10/
 /
CALSCALE:GREGORIAN
METHOD:PUBLISH
UID:786b215a-d0a4-48b5-a759-79fa4201a8a9
X-WR-CALDESC:Low impact exercise class
X-WR-RELCALID:747708f6d303f3d3d7821f788d691a1a
X-WR-TIMEZONE:America/Chicago
BEGIN:VTIMEZONE
TZID:America/Chicago
BEGIN:STANDARD
TZNAME:CST
DTSTART:20231105T020000
TZOFFSETFROM:-0500
TZOFFSETTO:-0600
RDATE:20241103T020000
RDATE:20251102T020000
END:STANDARD
BEGIN:DAYLIGHT
TZNAME:CDT
DTSTART:20240310T020000
TZOFFSETFROM:-0600
TZOFFSETTO:-0500
RDATE:20250309T020000
END:DAYLIGHT
END:VTIMEZONE
BEGIN:VEVENT
UID:f316440b-8b17-447d-8e9a-be3a1376caf5
DTSTAMP:20260419T232916Z
DESCRIPTION:Low impact exercise class
DTSTART;TZID=America/Chicago:20240513T103000
DTEND;TZID=America/Chicago:20240513T113000
LOCATION:Kindred City Hall
SUMMARY:Kindred Bone Builders
END:VEVENT
END:VCALENDAR
