BEGIN:VCALENDAR
VERSION:2.0
PRODID:-//communityofcarend.com//NONSGML kigkonsult.se iCalcreator 2.30.10/
 /
CALSCALE:GREGORIAN
METHOD:PUBLISH
UID:b5550ef1-594c-40b5-88b0-867694f79e67
X-WR-CALDESC:Low impact exercise class
X-WR-RELCALID:913d339942a26dd1124d97e2ad17038f
X-WR-TIMEZONE:America/Chicago
BEGIN:VTIMEZONE
TZID:America/Chicago
BEGIN:STANDARD
TZNAME:CST
DTSTART:20231105T020000
TZOFFSETFROM:-0500
TZOFFSETTO:-0600
RDATE:20241103T020000
RDATE:20251102T020000
END:STANDARD
BEGIN:DAYLIGHT
TZNAME:CDT
DTSTART:20240310T020000
TZOFFSETFROM:-0600
TZOFFSETTO:-0500
RDATE:20250309T020000
END:DAYLIGHT
END:VTIMEZONE
BEGIN:VEVENT
UID:38bcd93b-5bc9-46cb-85ee-7fb798cc5df1
DTSTAMP:20260419T232916Z
DESCRIPTION:Low impact exercise class
DTSTART;TZID=America/Chicago:20240506T103000
DTEND;TZID=America/Chicago:20240506T113000
LOCATION:Kindred City Hall
SUMMARY:Kindred Bone Builders
END:VEVENT
END:VCALENDAR
