BEGIN:VCALENDAR
VERSION:2.0
PRODID:-//communityofcarend.com//NONSGML kigkonsult.se iCalcreator 2.30.10/
 /
CALSCALE:GREGORIAN
METHOD:PUBLISH
UID:6a79d410-7c06-4a7a-9c0d-95af1412a258
X-WR-CALDESC:Bone Builder Exercise Class
X-WR-RELCALID:2d39dd9dbca6fb0955867acaf6fe517a
X-WR-TIMEZONE:America/Chicago
BEGIN:VTIMEZONE
TZID:America/Chicago
BEGIN:STANDARD
TZNAME:CST
DTSTART:20231105T020000
TZOFFSETFROM:-0500
TZOFFSETTO:-0600
RDATE:20241103T020000
RDATE:20251102T020000
END:STANDARD
BEGIN:DAYLIGHT
TZNAME:CDT
DTSTART:20240310T020000
TZOFFSETFROM:-0600
TZOFFSETTO:-0500
RDATE:20250309T020000
END:DAYLIGHT
END:VTIMEZONE
BEGIN:VEVENT
UID:f9cccd8a-c1b1-45de-ad1d-ad80d46c7a87
DTSTAMP:20260419T233132Z
DESCRIPTION:Bone Builder Exercise Class
DTSTART;TZID=America/Chicago:20240506T100000
DTEND;TZID=America/Chicago:20240506T110000
LOCATION:Horace Senior Center
SUMMARY:Horace Bone Builders
END:VEVENT
END:VCALENDAR
