BEGIN:VCALENDAR
VERSION:2.0
PRODID:-//communityofcarend.com//NONSGML kigkonsult.se iCalcreator 2.30.10/
 /
CALSCALE:GREGORIAN
METHOD:PUBLISH
UID:30d47617-ed2f-41c8-99f6-fb1f07e2bd2f
X-WR-CALDESC:
X-WR-RELCALID:b10cf4770a529235181533bae05a9a52
X-WR-TIMEZONE:America/Chicago
BEGIN:VTIMEZONE
TZID:America/Chicago
BEGIN:STANDARD
TZNAME:CST
DTSTART:20231105T020000
TZOFFSETFROM:-0500
TZOFFSETTO:-0600
RDATE:20241103T020000
END:STANDARD
BEGIN:DAYLIGHT
TZNAME:CDT
DTSTART:20240310T020000
TZOFFSETFROM:-0600
TZOFFSETTO:-0500
RDATE:20250309T020000
END:DAYLIGHT
END:VTIMEZONE
BEGIN:VEVENT
UID:11887d93-4e19-48e6-a572-cc710f633cf8
DTSTAMP:20260419T233209Z
DESCRIPTION:
DTSTART;TZID=America/Chicago:20240502T130000
DTEND;TZID=America/Chicago:20240502T140000
LOCATION:
SUMMARY:Bone Builders - Harwood
END:VEVENT
END:VCALENDAR
