BEGIN:VCALENDAR
VERSION:2.0
PRODID:-//communityofcarend.com//NONSGML kigkonsult.se iCalcreator 2.30.10/
 /
CALSCALE:GREGORIAN
METHOD:PUBLISH
UID:ce3fbd5f-9b4c-4e39-b9bf-fbfeaf7fdf35
X-WR-CALDESC:Bone Builder Exercise Class
X-WR-RELCALID:558325a24de5293603c1c701a9ab9901
X-WR-TIMEZONE:America/Chicago
BEGIN:VTIMEZONE
TZID:America/Chicago
BEGIN:STANDARD
TZNAME:CST
DTSTART:20231105T020000
TZOFFSETFROM:-0500
TZOFFSETTO:-0600
RDATE:20241103T020000
END:STANDARD
BEGIN:DAYLIGHT
TZNAME:CDT
DTSTART:20240310T020000
TZOFFSETFROM:-0600
TZOFFSETTO:-0500
RDATE:20250309T020000
END:DAYLIGHT
END:VTIMEZONE
BEGIN:VEVENT
UID:a836363a-7a82-4831-a135-d557dc8d6521
DTSTAMP:20260419T220531Z
DESCRIPTION:Bone Builder Exercise Class
DTSTART;TZID=America/Chicago:20240429T100000
DTEND;TZID=America/Chicago:20240429T110000
LOCATION:Horace Senior Center
SUMMARY:Horace Bone Builders
END:VEVENT
END:VCALENDAR
