BEGIN:VCALENDAR
VERSION:2.0
PRODID:-//communityofcarend.com//NONSGML kigkonsult.se iCalcreator 2.30.10/
 /
CALSCALE:GREGORIAN
METHOD:PUBLISH
UID:f5f99879-6dff-4edd-a913-e7c33c24347a
X-WR-CALDESC:Low impact exercise class
X-WR-RELCALID:445c1517b2a99e3de48f5003ba6eaba2
X-WR-TIMEZONE:America/Chicago
BEGIN:VTIMEZONE
TZID:America/Chicago
BEGIN:STANDARD
TZNAME:CST
DTSTART:20231105T020000
TZOFFSETFROM:-0500
TZOFFSETTO:-0600
RDATE:20241103T020000
END:STANDARD
BEGIN:DAYLIGHT
TZNAME:CDT
DTSTART:20240310T020000
TZOFFSETFROM:-0600
TZOFFSETTO:-0500
RDATE:20250309T020000
END:DAYLIGHT
END:VTIMEZONE
BEGIN:VEVENT
UID:5b7efd92-05ce-41e9-8ad9-887058df4fea
DTSTAMP:20260419T220451Z
DESCRIPTION:Low impact exercise class
DTSTART;TZID=America/Chicago:20240422T103000
DTEND;TZID=America/Chicago:20240422T113000
LOCATION:Kindred City Hall
SUMMARY:Kindred Bone Builders
END:VEVENT
END:VCALENDAR
