BEGIN:VCALENDAR
VERSION:2.0
PRODID:-//communityofcarend.com//NONSGML kigkonsult.se iCalcreator 2.30.10/
 /
CALSCALE:GREGORIAN
METHOD:PUBLISH
UID:4693de96-6710-4f9f-8287-5d05f96d911c
X-WR-CALDESC:Low impact exercise class
X-WR-RELCALID:28db58f83a629e55716d5565b90d4a17
X-WR-TIMEZONE:America/Chicago
BEGIN:VTIMEZONE
TZID:America/Chicago
BEGIN:STANDARD
TZNAME:CST
DTSTART:20231105T020000
TZOFFSETFROM:-0500
TZOFFSETTO:-0600
RDATE:20241103T020000
END:STANDARD
BEGIN:DAYLIGHT
TZNAME:CDT
DTSTART:20240310T020000
TZOFFSETFROM:-0600
TZOFFSETTO:-0500
RDATE:20250309T020000
END:DAYLIGHT
END:VTIMEZONE
BEGIN:VEVENT
UID:b43e5a18-c47d-4d91-9cb4-f724e50900aa
DTSTAMP:20260419T220618Z
DESCRIPTION:Low impact exercise class
DTSTART;TZID=America/Chicago:20240415T103000
DTEND;TZID=America/Chicago:20240415T113000
LOCATION:Kindred City Hall
SUMMARY:Kindred Bone Builders
END:VEVENT
END:VCALENDAR
