BEGIN:VCALENDAR
VERSION:2.0
PRODID:-//communityofcarend.com//NONSGML kigkonsult.se iCalcreator 2.30.10/
 /
CALSCALE:GREGORIAN
METHOD:PUBLISH
UID:3000b495-9717-4f9d-ada3-947122afd469
X-WR-CALDESC:Bone Builder Exercise Class
X-WR-RELCALID:cb7cfbddadbe1941bf2d8a29e154c62f
X-WR-TIMEZONE:America/Chicago
BEGIN:VTIMEZONE
TZID:America/Chicago
BEGIN:STANDARD
TZNAME:CST
DTSTART:20231105T020000
TZOFFSETFROM:-0500
TZOFFSETTO:-0600
RDATE:20241103T020000
END:STANDARD
BEGIN:DAYLIGHT
TZNAME:CDT
DTSTART:20240310T020000
TZOFFSETFROM:-0600
TZOFFSETTO:-0500
RDATE:20250309T020000
END:DAYLIGHT
END:VTIMEZONE
BEGIN:VEVENT
UID:564f290d-9926-47e9-8d70-75eeecb00bc3
DTSTAMP:20260419T220803Z
DESCRIPTION:Bone Builder Exercise Class
DTSTART;TZID=America/Chicago:20240415T100000
DTEND;TZID=America/Chicago:20240415T110000
LOCATION:Horace Senior Center
SUMMARY:Horace Bone Builders
END:VEVENT
END:VCALENDAR
