BEGIN:VCALENDAR
VERSION:2.0
PRODID:-//communityofcarend.com//NONSGML kigkonsult.se iCalcreator 2.30.10/
 /
CALSCALE:GREGORIAN
METHOD:PUBLISH
UID:7149a260-3d2a-49cf-9c4e-3f0af8a9cedd
X-WR-CALDESC:Low-impact exercise classes.
X-WR-RELCALID:be3fa1c3a73331f54d74af7db9bcee7b
X-WR-TIMEZONE:America/Chicago
BEGIN:VTIMEZONE
TZID:America/Chicago
BEGIN:STANDARD
TZNAME:CST
DTSTART:20231105T020000
TZOFFSETFROM:-0500
TZOFFSETTO:-0600
RDATE:20241103T020000
END:STANDARD
BEGIN:DAYLIGHT
TZNAME:CDT
DTSTART:20240310T020000
TZOFFSETFROM:-0600
TZOFFSETTO:-0500
RDATE:20250309T020000
END:DAYLIGHT
END:VTIMEZONE
BEGIN:VEVENT
UID:190a5704-24d4-40e4-81b4-071d7a8c0525
DTSTAMP:20260419T221146Z
DESCRIPTION:Low-impact exercise classes.
DTSTART;TZID=America/Chicago:20240405T103000
DTEND;TZID=America/Chicago:20240405T113000
LOCATION:Kindred City Hall
SUMMARY:Bone Builders - Kindred City Hall
END:VEVENT
END:VCALENDAR
