BEGIN:VCALENDAR
VERSION:2.0
PRODID:-//communityofcarend.com//NONSGML kigkonsult.se iCalcreator 2.30.10/
 /
CALSCALE:GREGORIAN
METHOD:PUBLISH
UID:81c20208-99a1-48ab-95c5-92aa307d19b8
X-WR-CALDESC:Bone Builder Exercise Class
X-WR-RELCALID:eff538537955ff34d29f5833111d3067
X-WR-TIMEZONE:America/Chicago
BEGIN:VTIMEZONE
TZID:America/Chicago
BEGIN:STANDARD
TZNAME:CST
DTSTART:20231105T020000
TZOFFSETFROM:-0500
TZOFFSETTO:-0600
RDATE:20241103T020000
END:STANDARD
BEGIN:DAYLIGHT
TZNAME:CDT
DTSTART:20240310T020000
TZOFFSETFROM:-0600
TZOFFSETTO:-0500
RDATE:20250309T020000
END:DAYLIGHT
END:VTIMEZONE
BEGIN:VEVENT
UID:e9d1589c-f290-4c70-b7e5-d53189c47b98
DTSTAMP:20260419T204028Z
DESCRIPTION:Bone Builder Exercise Class
DTSTART;TZID=America/Chicago:20240325T100000
DTEND;TZID=America/Chicago:20240325T110000
LOCATION:Horace Senior Center
SUMMARY:Horace Bone Builders
END:VEVENT
END:VCALENDAR
