BEGIN:VCALENDAR
VERSION:2.0
PRODID:-//communityofcarend.com//NONSGML kigkonsult.se iCalcreator 2.30.10/
 /
CALSCALE:GREGORIAN
METHOD:PUBLISH
UID:cccc292a-df48-40cb-ad00-2873cd773148
X-WR-CALDESC:Bone Builder Exercise Class
X-WR-RELCALID:df1adde7ef380353b420ef4ebc8edb02
X-WR-TIMEZONE:America/Chicago
BEGIN:VTIMEZONE
TZID:America/Chicago
BEGIN:STANDARD
TZNAME:CST
DTSTART:20231105T020000
TZOFFSETFROM:-0500
TZOFFSETTO:-0600
RDATE:20241103T020000
END:STANDARD
BEGIN:DAYLIGHT
TZNAME:CDT
DTSTART:20240310T020000
TZOFFSETFROM:-0600
TZOFFSETTO:-0500
RDATE:20250309T020000
END:DAYLIGHT
END:VTIMEZONE
BEGIN:VEVENT
UID:de442f0c-290e-4494-b9f7-70508219ea86
DTSTAMP:20260419T203927Z
DESCRIPTION:Bone Builder Exercise Class
DTSTART;TZID=America/Chicago:20240318T100000
DTEND;TZID=America/Chicago:20240318T110000
LOCATION:Horace Senior Center
SUMMARY:Horace Bone Builders
END:VEVENT
END:VCALENDAR
