BEGIN:VCALENDAR
VERSION:2.0
PRODID:-//communityofcarend.com//NONSGML kigkonsult.se iCalcreator 2.30.10/
 /
CALSCALE:GREGORIAN
METHOD:PUBLISH
UID:28492678-c160-4a8e-bcce-bf1e79d3a211
X-WR-CALDESC:
X-WR-RELCALID:df142880100dba8ffbed463e6e4698c6
X-WR-TIMEZONE:America/Chicago
BEGIN:VTIMEZONE
TZID:America/Chicago
BEGIN:STANDARD
TZNAME:CST
DTSTART:20231105T020000
TZOFFSETFROM:-0500
TZOFFSETTO:-0600
RDATE:20241103T020000
END:STANDARD
BEGIN:DAYLIGHT
TZNAME:CDT
DTSTART:20240310T020000
TZOFFSETFROM:-0600
TZOFFSETTO:-0500
RDATE:20250309T020000
END:DAYLIGHT
END:VTIMEZONE
BEGIN:VEVENT
UID:048eb72e-b035-4515-99f6-a8bfe31c309b
DTSTAMP:20260419T204611Z
DESCRIPTION:
DTSTART;TZID=America/Chicago:20240314T100000
DTEND;TZID=America/Chicago:20240314T120000
LOCATION:
SUMMARY:C of Care Board Meeting
END:VEVENT
END:VCALENDAR
