BEGIN:VCALENDAR
VERSION:2.0
PRODID:-//communityofcarend.com//NONSGML kigkonsult.se iCalcreator 2.30.10/
 /
CALSCALE:GREGORIAN
METHOD:PUBLISH
UID:e8486daa-2a74-4df1-94c4-a1665608f41c
X-WR-CALDESC:Low impact exercise class
X-WR-RELCALID:14ecc257318e2d0d692a60e9f7727819
X-WR-TIMEZONE:America/Chicago
BEGIN:VTIMEZONE
TZID:America/Chicago
BEGIN:STANDARD
TZNAME:CST
DTSTART:20231105T020000
TZOFFSETFROM:-0500
TZOFFSETTO:-0600
RDATE:20241103T020000
END:STANDARD
BEGIN:DAYLIGHT
TZNAME:CDT
DTSTART:20230312T020000
TZOFFSETFROM:-0600
TZOFFSETTO:-0500
RDATE:20240310T020000
RDATE:20250309T020000
END:DAYLIGHT
END:VTIMEZONE
BEGIN:VEVENT
UID:318b58de-ea9a-492b-a1c1-7281d81031c3
DTSTAMP:20260419T203803Z
DESCRIPTION:Low impact exercise class
DTSTART;TZID=America/Chicago:20240311T103000
DTEND;TZID=America/Chicago:20240311T113000
LOCATION:Kindred City Hall
SUMMARY:Kindred Bone Builders
END:VEVENT
END:VCALENDAR
