BEGIN:VCALENDAR
VERSION:2.0
PRODID:-//communityofcarend.com//NONSGML kigkonsult.se iCalcreator 2.30.10/
 /
CALSCALE:GREGORIAN
METHOD:PUBLISH
UID:1037a187-c0fe-49f7-9428-53f1df3ec831
X-WR-CALDESC:Bone Builder Exercise Class
X-WR-RELCALID:0d81a679c5ecfd416f832058ddbad0e9
X-WR-TIMEZONE:America/Chicago
BEGIN:VTIMEZONE
TZID:America/Chicago
BEGIN:STANDARD
TZNAME:CST
DTSTART:20231105T020000
TZOFFSETFROM:-0500
TZOFFSETTO:-0600
RDATE:20241103T020000
END:STANDARD
BEGIN:DAYLIGHT
TZNAME:CDT
DTSTART:20230312T020000
TZOFFSETFROM:-0600
TZOFFSETTO:-0500
RDATE:20240310T020000
RDATE:20250309T020000
END:DAYLIGHT
END:VTIMEZONE
BEGIN:VEVENT
UID:b40e7b8c-0d23-4013-baad-88a9bfc63499
DTSTAMP:20260419T203806Z
DESCRIPTION:Bone Builder Exercise Class
DTSTART;TZID=America/Chicago:20240311T100000
DTEND;TZID=America/Chicago:20240311T110000
LOCATION:Horace Senior Center
SUMMARY:Horace Bone Builders
END:VEVENT
END:VCALENDAR
