BEGIN:VCALENDAR
VERSION:2.0
PRODID:-//communityofcarend.com//NONSGML kigkonsult.se iCalcreator 2.30.10/
 /
CALSCALE:GREGORIAN
METHOD:PUBLISH
UID:546d5e32-7f2f-45d9-b0c2-8e80cf1b85cd
X-WR-CALDESC:Bone Builder Exercise Class
X-WR-RELCALID:8c77d83edf70c83529d060bc18ead84e
X-WR-TIMEZONE:America/Chicago
BEGIN:VTIMEZONE
TZID:America/Chicago
BEGIN:STANDARD
TZNAME:CST
DTSTART:20231105T020000
TZOFFSETFROM:-0500
TZOFFSETTO:-0600
RDATE:20241103T020000
END:STANDARD
BEGIN:DAYLIGHT
TZNAME:CDT
DTSTART:20230312T020000
TZOFFSETFROM:-0600
TZOFFSETTO:-0500
RDATE:20240310T020000
RDATE:20250309T020000
END:DAYLIGHT
END:VTIMEZONE
BEGIN:VEVENT
UID:bcb57920-809f-4d02-a436-e2f41c5f6cf3
DTSTAMP:20260419T203959Z
DESCRIPTION:Bone Builder Exercise Class
DTSTART;TZID=America/Chicago:20240307T100000
DTEND;TZID=America/Chicago:20240307T110000
LOCATION:Horace Senior Center
SUMMARY:Horace Bone Builders
END:VEVENT
END:VCALENDAR
