BEGIN:VCALENDAR
VERSION:2.0
PRODID:-//communityofcarend.com//NONSGML kigkonsult.se iCalcreator 2.30.10/
 /
CALSCALE:GREGORIAN
METHOD:PUBLISH
UID:6c62c286-8bb9-4bb6-b6ab-30aa439c17cd
X-WR-CALDESC:Bone Builder Exercise Class
X-WR-RELCALID:f39bd241cbeaafa80bf06a30d3e1ca50
X-WR-TIMEZONE:America/Chicago
BEGIN:VTIMEZONE
TZID:America/Chicago
BEGIN:STANDARD
TZNAME:CST
DTSTART:20231105T020000
TZOFFSETFROM:-0500
TZOFFSETTO:-0600
RDATE:20241103T020000
END:STANDARD
BEGIN:DAYLIGHT
TZNAME:CDT
DTSTART:20230312T020000
TZOFFSETFROM:-0600
TZOFFSETTO:-0500
RDATE:20240310T020000
RDATE:20250309T020000
END:DAYLIGHT
END:VTIMEZONE
BEGIN:VEVENT
UID:87f586a6-a705-42b1-9744-f27f7c7efd54
DTSTAMP:20260419T204145Z
DESCRIPTION:Bone Builder Exercise Class
DTSTART;TZID=America/Chicago:20240304T100000
DTEND;TZID=America/Chicago:20240304T110000
LOCATION:Horace Senior Center
SUMMARY:Horace Bone Builders
END:VEVENT
END:VCALENDAR
