BEGIN:VCALENDAR
VERSION:2.0
PRODID:-//communityofcarend.com//NONSGML kigkonsult.se iCalcreator 2.30.10/
 /
CALSCALE:GREGORIAN
METHOD:PUBLISH
UID:4289407d-62b6-4ba0-b378-65f212d2dfb2
X-WR-CALDESC:Low impact exercise class
X-WR-RELCALID:3e8fe188b5b231570399ce268fc02fd6
X-WR-TIMEZONE:America/Chicago
BEGIN:VTIMEZONE
TZID:America/Chicago
BEGIN:STANDARD
TZNAME:CST
DTSTART:20231105T020000
TZOFFSETFROM:-0500
TZOFFSETTO:-0600
RDATE:20241103T020000
END:STANDARD
BEGIN:DAYLIGHT
TZNAME:CDT
DTSTART:20230312T020000
TZOFFSETFROM:-0600
TZOFFSETTO:-0500
RDATE:20240310T020000
RDATE:20250309T020000
END:DAYLIGHT
END:VTIMEZONE
BEGIN:VEVENT
UID:8153c5c3-f739-40c9-b064-7dedff7cf49c
DTSTAMP:20260419T190342Z
DESCRIPTION:Low impact exercise class
DTSTART;TZID=America/Chicago:20240219T103000
DTEND;TZID=America/Chicago:20240219T113000
LOCATION:Kindred City Hall
SUMMARY:Kindred Bone Builders
END:VEVENT
END:VCALENDAR
