BEGIN:VCALENDAR
VERSION:2.0
PRODID:-//communityofcarend.com//NONSGML kigkonsult.se iCalcreator 2.30.10/
 /
CALSCALE:GREGORIAN
METHOD:PUBLISH
UID:641c009a-1e2f-4d2a-8e07-6a0a96963520
X-WR-CALDESC:Low impact exercise class
X-WR-RELCALID:15c983849e11f426f24b3c7ebedd8409
X-WR-TIMEZONE:America/Chicago
BEGIN:VTIMEZONE
TZID:America/Chicago
BEGIN:STANDARD
TZNAME:CST
DTSTART:20231105T020000
TZOFFSETFROM:-0500
TZOFFSETTO:-0600
RDATE:20241103T020000
END:STANDARD
BEGIN:DAYLIGHT
TZNAME:CDT
DTSTART:20230312T020000
TZOFFSETFROM:-0600
TZOFFSETTO:-0500
RDATE:20240310T020000
RDATE:20250309T020000
END:DAYLIGHT
END:VTIMEZONE
BEGIN:VEVENT
UID:131b89f4-1b67-488c-a0d5-4672118a50b7
DTSTAMP:20260419T190402Z
DESCRIPTION:Low impact exercise class
DTSTART;TZID=America/Chicago:20240212T103000
DTEND;TZID=America/Chicago:20240212T113000
LOCATION:Kindred City Hall
SUMMARY:Kindred Bone Builders
END:VEVENT
END:VCALENDAR
