BEGIN:VCALENDAR
VERSION:2.0
PRODID:-//communityofcarend.com//NONSGML kigkonsult.se iCalcreator 2.30.10/
 /
CALSCALE:GREGORIAN
METHOD:PUBLISH
UID:b5912a09-acf6-41e6-acf0-de096901ac15
X-WR-CALDESC:Bone Builder Exercise Class
X-WR-RELCALID:56f4796d69d7efb65950c814d6413fad
X-WR-TIMEZONE:America/Chicago
BEGIN:VTIMEZONE
TZID:America/Chicago
BEGIN:STANDARD
TZNAME:CST
DTSTART:20231105T020000
TZOFFSETFROM:-0500
TZOFFSETTO:-0600
RDATE:20241103T020000
END:STANDARD
BEGIN:DAYLIGHT
TZNAME:CDT
DTSTART:20230312T020000
TZOFFSETFROM:-0600
TZOFFSETTO:-0500
RDATE:20240310T020000
RDATE:20250309T020000
END:DAYLIGHT
END:VTIMEZONE
BEGIN:VEVENT
UID:f84c02ff-eb37-4830-bf11-9eca0c7b82e1
DTSTAMP:20260419T190438Z
DESCRIPTION:Bone Builder Exercise Class
DTSTART;TZID=America/Chicago:20240208T100000
DTEND;TZID=America/Chicago:20240208T110000
LOCATION:Horace Senior Center
SUMMARY:Horace Bone Builders
END:VEVENT
END:VCALENDAR
