BEGIN:VCALENDAR
VERSION:2.0
PRODID:-//communityofcarend.com//NONSGML kigkonsult.se iCalcreator 2.30.10/
 /
CALSCALE:GREGORIAN
METHOD:PUBLISH
UID:2d45a35e-b06b-4e2a-b11e-f70fed175ad3
X-WR-CALDESC:Low impact exercise class
X-WR-RELCALID:c6b659aabe877c002c490d7a4df4ff3c
X-WR-TIMEZONE:America/Chicago
BEGIN:VTIMEZONE
TZID:America/Chicago
BEGIN:STANDARD
TZNAME:CST
DTSTART:20231105T020000
TZOFFSETFROM:-0500
TZOFFSETTO:-0600
RDATE:20241103T020000
END:STANDARD
BEGIN:DAYLIGHT
TZNAME:CDT
DTSTART:20230312T020000
TZOFFSETFROM:-0600
TZOFFSETTO:-0500
RDATE:20240310T020000
RDATE:20250309T020000
END:DAYLIGHT
END:VTIMEZONE
BEGIN:VEVENT
UID:9cfdfd10-b27f-4559-be57-aa44a5f18c22
DTSTAMP:20260419T173153Z
DESCRIPTION:Low impact exercise class
DTSTART;TZID=America/Chicago:20240122T103000
DTEND;TZID=America/Chicago:20240122T113000
LOCATION:Kindred City Hall
SUMMARY:Kindred Bone Builders
END:VEVENT
END:VCALENDAR
