BEGIN:VCALENDAR
VERSION:2.0
PRODID:-//communityofcarend.com//NONSGML kigkonsult.se iCalcreator 2.30.10/
 /
CALSCALE:GREGORIAN
METHOD:PUBLISH
UID:4426d39b-a2da-4e6c-b4bb-8eb60ad7d9ea
X-WR-CALDESC:Bone Builder Exercise Class
X-WR-RELCALID:1347e375dcd374a4a1b39125b51e023d
X-WR-TIMEZONE:America/Chicago
BEGIN:VTIMEZONE
TZID:America/Chicago
BEGIN:STANDARD
TZNAME:CST
DTSTART:20231105T020000
TZOFFSETFROM:-0500
TZOFFSETTO:-0600
RDATE:20241103T020000
END:STANDARD
BEGIN:DAYLIGHT
TZNAME:CDT
DTSTART:20230312T020000
TZOFFSETFROM:-0600
TZOFFSETTO:-0500
RDATE:20240310T020000
RDATE:20250309T020000
END:DAYLIGHT
END:VTIMEZONE
BEGIN:VEVENT
UID:c39899c9-3770-49d8-8941-bf7a77481cb0
DTSTAMP:20260419T173542Z
DESCRIPTION:Bone Builder Exercise Class
DTSTART;TZID=America/Chicago:20240115T100000
DTEND;TZID=America/Chicago:20240115T110000
LOCATION:Horace Senior Center
SUMMARY:Horace Bone Builders
END:VEVENT
END:VCALENDAR
