BEGIN:VCALENDAR
VERSION:2.0
PRODID:-//communityofcarend.com//NONSGML kigkonsult.se iCalcreator 2.30.10/
 /
CALSCALE:GREGORIAN
METHOD:PUBLISH
UID:a77341d4-c4b1-49e9-a9dd-7d247f2f2545
X-WR-CALDESC:Low-impact exercise classes.
X-WR-RELCALID:18737b0fec5405d5ac883965a1c9f806
X-WR-TIMEZONE:America/Chicago
BEGIN:VTIMEZONE
TZID:America/Chicago
BEGIN:STANDARD
TZNAME:CST
DTSTART:20231105T020000
TZOFFSETFROM:-0500
TZOFFSETTO:-0600
RDATE:20241103T020000
END:STANDARD
BEGIN:DAYLIGHT
TZNAME:CDT
DTSTART:20230312T020000
TZOFFSETFROM:-0600
TZOFFSETTO:-0500
RDATE:20240310T020000
RDATE:20250309T020000
END:DAYLIGHT
END:VTIMEZONE
BEGIN:VEVENT
UID:3a9d27b6-1123-4046-941d-61d212b6af4e
DTSTAMP:20260419T161721Z
DESCRIPTION:Low-impact exercise classes.
DTSTART;TZID=America/Chicago:20231222T103000
DTEND;TZID=America/Chicago:20231222T113000
LOCATION:Kindred City Hall
SUMMARY:Bone Builders - Kindred City Hall
END:VEVENT
END:VCALENDAR
