BEGIN:VCALENDAR
VERSION:2.0
PRODID:-//communityofcarend.com//NONSGML kigkonsult.se iCalcreator 2.30.10/
 /
CALSCALE:GREGORIAN
METHOD:PUBLISH
UID:9f35c4f1-2b6d-4de5-ad23-94de46dae6fd
X-WR-CALDESC:
X-WR-RELCALID:6839e302066f8072f16d329bd5dca56d
X-WR-TIMEZONE:America/Chicago
BEGIN:VTIMEZONE
TZID:America/Chicago
BEGIN:STANDARD
TZNAME:CST
DTSTART:20231105T020000
TZOFFSETFROM:-0500
TZOFFSETTO:-0600
RDATE:20241103T020000
END:STANDARD
BEGIN:DAYLIGHT
TZNAME:CDT
DTSTART:20230312T020000
TZOFFSETFROM:-0600
TZOFFSETTO:-0500
RDATE:20240310T020000
RDATE:20250309T020000
END:DAYLIGHT
END:VTIMEZONE
BEGIN:VEVENT
UID:04337162-0113-4eb5-82fd-422ddd7961fe
DTSTAMP:20260419T161654Z
DESCRIPTION:
DTSTART;TZID=America/Chicago:20231218T094500
DTEND;TZID=America/Chicago:20231218T104500
LOCATION:Arthur United Methodist Church
SUMMARY:Bone Builders - Arthur United Methodist Church
END:VEVENT
END:VCALENDAR
