BEGIN:VCALENDAR
VERSION:2.0
PRODID:-//communityofcarend.com//NONSGML kigkonsult.se iCalcreator 2.30.10/
 /
CALSCALE:GREGORIAN
METHOD:PUBLISH
UID:14dafbbe-0f49-4a22-8965-75880b39e7e1
X-WR-CALDESC:Low-impact exercise classes.
X-WR-RELCALID:a21521c1d35e7ee0ccec619ab9f36927
X-WR-TIMEZONE:America/Chicago
BEGIN:VTIMEZONE
TZID:America/Chicago
BEGIN:STANDARD
TZNAME:CST
DTSTART:20231105T020000
TZOFFSETFROM:-0500
TZOFFSETTO:-0600
RDATE:20241103T020000
END:STANDARD
BEGIN:DAYLIGHT
TZNAME:CDT
DTSTART:20230312T020000
TZOFFSETFROM:-0600
TZOFFSETTO:-0500
RDATE:20240310T020000
RDATE:20250309T020000
END:DAYLIGHT
END:VTIMEZONE
BEGIN:VEVENT
UID:6437495f-38bc-4293-a7c2-fcec93ae8aae
DTSTAMP:20260419T161721Z
DESCRIPTION:Low-impact exercise classes.
DTSTART;TZID=America/Chicago:20231215T103000
DTEND;TZID=America/Chicago:20231215T113000
LOCATION:Kindred City Hall
SUMMARY:Bone Builders - Kindred City Hall
END:VEVENT
END:VCALENDAR
