BEGIN:VCALENDAR
VERSION:2.0
PRODID:-//communityofcarend.com//NONSGML kigkonsult.se iCalcreator 2.30.10/
 /
CALSCALE:GREGORIAN
METHOD:PUBLISH
UID:28a9bca7-1175-474a-81c1-5638d787b3f1
X-WR-CALDESC:
X-WR-RELCALID:12bd424170a57fbd8986d033a689206f
X-WR-TIMEZONE:America/Chicago
BEGIN:VTIMEZONE
TZID:America/Chicago
BEGIN:STANDARD
TZNAME:CST
DTSTART:20231105T020000
TZOFFSETFROM:-0500
TZOFFSETTO:-0600
RDATE:20241103T020000
END:STANDARD
BEGIN:DAYLIGHT
TZNAME:CDT
DTSTART:20230312T020000
TZOFFSETFROM:-0600
TZOFFSETTO:-0500
RDATE:20240310T020000
RDATE:20250309T020000
END:DAYLIGHT
END:VTIMEZONE
BEGIN:VEVENT
UID:11c5fcc7-aae9-47be-b9c1-bbe0197450a4
DTSTAMP:20260419T161634Z
DESCRIPTION:
DTSTART;TZID=America/Chicago:20231214T130000
DTEND;TZID=America/Chicago:20231214T140000
LOCATION:
SUMMARY:Bone Builders - Harwood
END:VEVENT
END:VCALENDAR
