BEGIN:VCALENDAR
VERSION:2.0
PRODID:-//communityofcarend.com//NONSGML kigkonsult.se iCalcreator 2.30.10/
 /
CALSCALE:GREGORIAN
METHOD:PUBLISH
UID:5882e91c-30e0-4e39-a34e-337caa2b0b6a
X-WR-CALDESC:Bone Builder Exercise Class
X-WR-RELCALID:d1cd72164fd5a776015f176763e97a12
X-WR-TIMEZONE:America/Chicago
BEGIN:VTIMEZONE
TZID:America/Chicago
BEGIN:STANDARD
TZNAME:CST
DTSTART:20231105T020000
TZOFFSETFROM:-0500
TZOFFSETTO:-0600
RDATE:20241103T020000
END:STANDARD
BEGIN:DAYLIGHT
TZNAME:CDT
DTSTART:20230312T020000
TZOFFSETFROM:-0600
TZOFFSETTO:-0500
RDATE:20240310T020000
RDATE:20250309T020000
END:DAYLIGHT
END:VTIMEZONE
BEGIN:VEVENT
UID:f3890b72-2e6e-4e56-8b53-542c1b9c1e33
DTSTAMP:20260419T160846Z
DESCRIPTION:Bone Builder Exercise Class
DTSTART;TZID=America/Chicago:20231211T100000
DTEND;TZID=America/Chicago:20231211T110000
LOCATION:Horace Senior Center
SUMMARY:Horace Bone Builders
END:VEVENT
END:VCALENDAR
