BEGIN:VCALENDAR
VERSION:2.0
PRODID:-//communityofcarend.com//NONSGML kigkonsult.se iCalcreator 2.30.10/
 /
CALSCALE:GREGORIAN
METHOD:PUBLISH
UID:d50b0920-25a2-45b3-acb6-89f11818bb50
X-WR-CALDESC:Low impact exercise class
X-WR-RELCALID:5ab59b88311a0c023ba410f02c87b66b
X-WR-TIMEZONE:America/Chicago
BEGIN:VTIMEZONE
TZID:America/Chicago
BEGIN:STANDARD
TZNAME:CST
DTSTART:20231105T020000
TZOFFSETFROM:-0500
TZOFFSETTO:-0600
RDATE:20241103T020000
END:STANDARD
BEGIN:DAYLIGHT
TZNAME:CDT
DTSTART:20230312T020000
TZOFFSETFROM:-0600
TZOFFSETTO:-0500
RDATE:20240310T020000
RDATE:20250309T020000
END:DAYLIGHT
END:VTIMEZONE
BEGIN:VEVENT
UID:ddd39f2a-048b-4516-b22a-f5fcf547b405
DTSTAMP:20260419T142450Z
DESCRIPTION:Low impact exercise class
DTSTART;TZID=America/Chicago:20231127T103000
DTEND;TZID=America/Chicago:20231127T113000
LOCATION:Kindred City Hall
SUMMARY:Kindred Bone Builders
END:VEVENT
END:VCALENDAR
