BEGIN:VCALENDAR
VERSION:2.0
PRODID:-//communityofcarend.com//NONSGML kigkonsult.se iCalcreator 2.30.10/
 /
CALSCALE:GREGORIAN
METHOD:PUBLISH
UID:12838bb6-a952-4df1-8c8d-e03ef823216a
X-WR-CALDESC:Low-impact exercise classes.
X-WR-RELCALID:c7c17062a90dd7dde3c810d803ee899d
X-WR-TIMEZONE:America/Chicago
BEGIN:VTIMEZONE
TZID:America/Chicago
BEGIN:STANDARD
TZNAME:CST
DTSTART:20231105T020000
TZOFFSETFROM:-0500
TZOFFSETTO:-0600
RDATE:20241103T020000
END:STANDARD
BEGIN:DAYLIGHT
TZNAME:CDT
DTSTART:20230312T020000
TZOFFSETFROM:-0600
TZOFFSETTO:-0500
RDATE:20240310T020000
RDATE:20250309T020000
END:DAYLIGHT
END:VTIMEZONE
BEGIN:VEVENT
UID:4c3cdc40-2a30-4408-9e85-49179992eaa2
DTSTAMP:20260419T143123Z
DESCRIPTION:Low-impact exercise classes.
DTSTART;TZID=America/Chicago:20231124T103000
DTEND;TZID=America/Chicago:20231124T113000
LOCATION:Kindred City Hall
SUMMARY:Bone Builders - Kindred City Hall
END:VEVENT
END:VCALENDAR
