BEGIN:VCALENDAR
VERSION:2.0
PRODID:-//communityofcarend.com//NONSGML kigkonsult.se iCalcreator 2.30.10/
 /
CALSCALE:GREGORIAN
METHOD:PUBLISH
UID:6f087d47-714a-436d-bc0c-4e8388457da3
X-WR-CALDESC:Bone Builder Exercise Class
X-WR-RELCALID:2e3fbfa92413f98c9e8f09d06431e62d
X-WR-TIMEZONE:America/Chicago
BEGIN:VTIMEZONE
TZID:America/Chicago
BEGIN:STANDARD
TZNAME:CST
DTSTART:20221106T020000
TZOFFSETFROM:-0500
TZOFFSETTO:-0600
RDATE:20231105T020000
RDATE:20241103T020000
END:STANDARD
BEGIN:DAYLIGHT
TZNAME:CDT
DTSTART:20230312T020000
TZOFFSETFROM:-0600
TZOFFSETTO:-0500
RDATE:20240310T020000
RDATE:20250309T020000
END:DAYLIGHT
END:VTIMEZONE
BEGIN:VEVENT
UID:33f77ed8-1ac6-4efd-bba4-a85e92a8e9ba
DTSTAMP:20260419T124935Z
DESCRIPTION:Bone Builder Exercise Class
DTSTART;TZID=America/Chicago:20231023T100000
DTEND;TZID=America/Chicago:20231023T110000
LOCATION:Horace Senior Center
SUMMARY:Horace Bone Builders
END:VEVENT
END:VCALENDAR
