BEGIN:VCALENDAR
VERSION:2.0
PRODID:-//communityofcarend.com//NONSGML kigkonsult.se iCalcreator 2.30.10/
 /
CALSCALE:GREGORIAN
METHOD:PUBLISH
UID:2746627c-f9da-48f2-b8c1-2f95327c2a77
X-WR-CALDESC:Low-impact exercise classes.
X-WR-RELCALID:9b5cfabc3972b7ab5716556dd06c0645
X-WR-TIMEZONE:America/Chicago
BEGIN:VTIMEZONE
TZID:America/Chicago
BEGIN:STANDARD
TZNAME:CST
DTSTART:20221106T020000
TZOFFSETFROM:-0500
TZOFFSETTO:-0600
RDATE:20231105T020000
RDATE:20241103T020000
END:STANDARD
BEGIN:DAYLIGHT
TZNAME:CDT
DTSTART:20230312T020000
TZOFFSETFROM:-0600
TZOFFSETTO:-0500
RDATE:20240310T020000
RDATE:20250309T020000
END:DAYLIGHT
END:VTIMEZONE
BEGIN:VEVENT
UID:cf505a47-d8fb-4aa2-8711-ebdabb65b7a0
DTSTAMP:20260419T125540Z
DESCRIPTION:Low-impact exercise classes.
DTSTART;TZID=America/Chicago:20231006T103000
DTEND;TZID=America/Chicago:20231006T113000
LOCATION:Kindred City Hall
SUMMARY:Bone Builders - Kindred City Hall
END:VEVENT
END:VCALENDAR
